BEGIN:VCALENDAR
VERSION:2.0
PRODID:-//Nilas MV® - HRV kann jetzt mehr - ECPv6.0.12//NONSGML v1.0//EN
CALSCALE:GREGORIAN
METHOD:PUBLISH
X-ORIGINAL-URL:https://www.nilas-mv.com
X-WR-CALDESC:Veranstaltungen für Nilas MV® - HRV kann jetzt mehr
REFRESH-INTERVAL;VALUE=DURATION:PT1H
X-Robots-Tag:noindex
X-PUBLISHED-TTL:PT1H
BEGIN:VTIMEZONE
TZID:Europe/Berlin
BEGIN:DAYLIGHT
TZOFFSETFROM:+0100
TZOFFSETTO:+0200
TZNAME:CEST
DTSTART:20210328T010000
END:DAYLIGHT
BEGIN:STANDARD
TZOFFSETFROM:+0200
TZOFFSETTO:+0100
TZNAME:CET
DTSTART:20211031T010000
END:STANDARD
END:VTIMEZONE
BEGIN:VEVENT
DTSTART;TZID=Europe/Berlin:20210408T183000
DTEND;TZID=Europe/Berlin:20210408T193000
DTSTAMP:20260424T063432
CREATED:20210408T163000Z
LAST-MODIFIED:20210329T103602Z
UID:10000271-1617906600-1617910200@www.nilas-mv.com
SUMMARY:Nilas MV® Online-Sprechstunde für Kunden auf Zoom
DESCRIPTION:Informationen\, Fragen und Antworten zur Anwendung des HRV-Systems Nilas MV® (für Anwender aller Nilas-Versionen.\n\nModeration: Schulungsleiterin Frau Dr. Karin Töpperwien und Frau HP Kirsten Valentiner (Praxis KVantensprung\, Hamburg)\n\nKostenlose einstündige Online-Sprechstunde über die Konferenzsoftware Zoom. Sie erhalten von unseren Dozenten einerseits gezielte Informationen über die Anwendung der Software von Nilas MV®\, andererseits besteht zusätzlich für Sie die Möglichkeit\, direkt Fragen zu stellen. Die Teilnahme ist jederzeit ohne Zoom-Konto möglich.\n\nBitte melden Sie sich über den folgenden Link an: Login.
URL:https://www.nilas-mv.com/veranstaltung/nilas-mv-online-sprechstunde-fuer-kunden-auf-zoom-7/
LOCATION:Online
CATEGORIES:Zoom-Meeting,Kunden,Online
ORGANIZER;CN="Nilas%20MV%C2%AE%20Akademie":MAILTO:info@nilas-mv.com
END:VEVENT
BEGIN:VEVENT
DTSTART;TZID=Europe/Berlin:20210408T200000
DTEND;TZID=Europe/Berlin:20210408T210000
DTSTAMP:20260424T063432
CREATED:20210329T110614Z
LAST-MODIFIED:20210329T110614Z
UID:10000267-1617912000-1617915600@www.nilas-mv.com
SUMMARY:NEU! Online-Sprechstunde für Interessenten
DESCRIPTION:„Herzratenvariabilität (HRV): Biorhythmische Prozesse erfassen\, verstehen und optimal regulieren mithilfe eines validen Systems“\n\nModeration: Schulungsleiterin Frau Dr. Karin Töpperwien und Frau HP Kirsten Valentiner (Praxis KVantensprung\, Hamburg)\n\nKostenlose einstündige Online-Sprechstunde über die Konferenzsoftware Zoom. Sie erhalten von unseren Dozenten einerseits gezielte Informationen über die Anwendung der Software von Nilas MV®\, andererseits besteht zusätzlich für Sie die Möglichkeit\, direkt Fragen zu stellen. Die Teilnahme ist jederzeit ohne Zoom-Konto möglich.\n\nBitte melden Sie sich über den folgenden Link an: https://us02web.zoom.us/meeting/register/tZUkc-mrrzouHdPV5Y2gtjNn9KuTL-jVr-Be
URL:https://www.nilas-mv.com/veranstaltung/neu-online-sprechstunde-fuer-interessenten-10/
LOCATION:Online
CATEGORIES:Zoom-Meeting,Interessenten,Online
ORGANIZER;CN="Nilas%20MV%C2%AE%20Akademie":MAILTO:info@nilas-mv.com
END:VEVENT
BEGIN:VEVENT
DTSTART;TZID=Europe/Berlin:20210412T193000
DTEND;TZID=Europe/Berlin:20210412T213000
DTSTAMP:20260424T063432
CREATED:20201215T144510Z
LAST-MODIFIED:20201215T144510Z
UID:10000242-1618255800-1618263000@www.nilas-mv.com
SUMMARY:Nilas MV® Einweisungswebinar
DESCRIPTION:Nach Informationen zur HRV und Software-Installation führen wir Sie durch den Programmaufbau und die konkrete Handhabung in Ihrer Praxis.\n\nFür weiterführende Informationen zur Veranstaltung und Registrierung loggen Sie sich bitte ein: Login. \n\nDozentin: Dr. phil. Karin Töpperwien
URL:https://www.nilas-mv.com/veranstaltung/nilas-mv-einweisungswebinar-6/
LOCATION:Online
CATEGORIES:Einweisungswebinar,Kunden,Online
ORGANIZER;CN="Nilas%20MV%C2%AE%20Akademie":MAILTO:info@nilas-mv.com
END:VEVENT
BEGIN:VEVENT
DTSTART;TZID=Europe/Berlin:20210419T200000
DTEND;TZID=Europe/Berlin:20210419T210000
DTSTAMP:20260424T063432
CREATED:20201215T145010Z
LAST-MODIFIED:20201215T145010Z
UID:10000243-1618862400-1618866000@www.nilas-mv.com
SUMMARY:Nilas MV® Anwender-Beratungswebinar
DESCRIPTION:Wir beantworten Ihre Fragen\, die Sie bis zum 12.04.2021 an beratung@nilas-mv.com einreichen können. Lz-Dateien oder Screenshots bitte mit anonymisierten Patientendaten senden\, kurz die Situation beschreiben und Ihre Frage anfügen.\n\nFür weiterführende Informationen zur Veranstaltung und Registrierung loggen Sie sich bitte ein: Login. \n\nDozentin: Dr. phil. Karin Töpperwien
URL:https://www.nilas-mv.com/veranstaltung/nilas-mv-anwender-beratungswebinar-6/
LOCATION:Online
CATEGORIES:Anwender-Beratungswebinar,Kunden,Online
ORGANIZER;CN="Nilas%20MV%C2%AE%20Akademie":MAILTO:info@nilas-mv.com
END:VEVENT
BEGIN:VEVENT
DTSTART;TZID=Europe/Berlin:20210420T183000
DTEND;TZID=Europe/Berlin:20210420T193000
DTSTAMP:20260424T063432
CREATED:20210329T111239Z
LAST-MODIFIED:20210329T111239Z
UID:10000270-1618943400-1618947000@www.nilas-mv.com
SUMMARY:NEU! Online-Sprechstunde für Interessenten
DESCRIPTION:„Herzratenvariabilität (HRV): Biorhythmische Prozesse erfassen\, verstehen und optimal regulieren mithilfe eines validen Systems“\n\nModeration: Schulungsleiterin Frau Dr. Karin Töpperwien und Frau HP Kirsten Valentiner (Praxis KVantensprung\, Hamburg)\n\nKostenlose einstündige Online-Sprechstunde über die Konferenzsoftware Zoom. Sie erhalten von unseren Dozenten einerseits gezielte Informationen über die Anwendung der Software von Nilas MV®\, andererseits besteht zusätzlich für Sie die Möglichkeit\, direkt Fragen zu stellen. Die Teilnahme ist jederzeit ohne Zoom-Konto möglich.\n\nBitte melden Sie sich über den folgenden Link an: https://us02web.zoom.us/meeting/register/tZcpd-mpqjwrG9Qn_dAxftEF0npgNUEEmMIu
URL:https://www.nilas-mv.com/veranstaltung/neu-online-sprechstunde-fuer-interessenten-11/
LOCATION:Online
CATEGORIES:Zoom-Meeting,Interessenten,Online
ORGANIZER;CN="Nilas%20MV%C2%AE%20Akademie":MAILTO:info@nilas-mv.com
END:VEVENT
BEGIN:VEVENT
DTSTART;TZID=Europe/Berlin:20210420T200000
DTEND;TZID=Europe/Berlin:20210420T210000
DTSTAMP:20260424T063432
CREATED:20210420T180000Z
LAST-MODIFIED:20210329T105732Z
UID:10000448-1618948800-1618952400@www.nilas-mv.com
SUMMARY:Nilas MV® Online-Sprechstunde für Kunden auf Zoom
DESCRIPTION:Informationen\, Fragen und Antworten zur Anwendung des HRV-Systems Nilas MV® (für Anwender aller Nilas-Versionen.\n\nModeration: Schulungsleiterin Frau Dr. Karin Töpperwien und Frau HP Kirsten Valentiner (Praxis KVantensprung\, Hamburg)\n\nKostenlose einstündige Online-Sprechstunde über die Konferenzsoftware Zoom. Sie erhalten von unseren Dozenten einerseits gezielte Informationen über die Anwendung der Software von Nilas MV®\, andererseits besteht zusätzlich für Sie die Möglichkeit\, direkt Fragen zu stellen. Die Teilnahme ist jederzeit ohne Zoom-Konto möglich.\n\nBitte melden Sie sich über den folgenden Link an: Login.
URL:https://www.nilas-mv.com/veranstaltung/nilas-mv-online-sprechstunde-fuer-kunden-auf-zoom-8/
LOCATION:Online
CATEGORIES:Zoom-Meeting,Kunden,Online
ORGANIZER;CN="Nilas%20MV%C2%AE%20Akademie":MAILTO:info@nilas-mv.com
END:VEVENT
BEGIN:VEVENT
DTSTART;TZID=Europe/Berlin:20210426T200000
DTEND;TZID=Europe/Berlin:20210426T210000
DTSTAMP:20260424T063432
CREATED:20201215T145239Z
LAST-MODIFIED:20201215T145239Z
UID:10000245-1619467200-1619470800@www.nilas-mv.com
SUMMARY:Nilas MV® Präsentations-Webinar
DESCRIPTION:Neue Horizonte in Diagnostik und Regulation mit Nilas-MV®\nHRV kann jetzt mehr! Präsentationswebinar\n– Nilas-MV® Funktionsdiagnostik\n– Stresskompetenz und Risiken erkennen\n– Verifizierbare Daten in 5 min\n– Hohe Akzeptanz bei Patienten/Klienten\n– Kostengünstig für Anwender und Klienten/Patienten\n– Effizienter Einsatz in Praxen\, Fitness und Coaching…\n\nDozentin: Dr. phil. Karin Töpperwien\n\nJetzt kostenfrei buchen: https://nilasmv.edudip.com/w/382986
URL:https://www.nilas-mv.com/veranstaltung/nilas-mv-praesentations-webinar-4/
LOCATION:Online
CATEGORIES:Präsentationswebinar,Interessenten,Online
ORGANIZER;CN="Nilas%20MV%C2%AE%20Akademie":MAILTO:info@nilas-mv.com
END:VEVENT
END:VCALENDAR